BEGIN:VCALENDAR
VERSION:2.0
PRODID:SchoolNow
CALSCALE:GREGORIAN
BEGIN:VEVENT
UID:0932864e-25cf-11ea-a3f0-22000a97d21c
DTSTAMP:20200612T194245Z
SUMMARY:Movie Night - Canceled
LOCATION:Theater
URL;VALUE=URI:https://www.wildernesslakecdd.org/calendar/2165974/movie-nigh
 t
DTSTART:20200615T220000Z
DTEND:20200615T233000Z
END:VEVENT
END:VCALENDAR
