BEGIN:VCALENDAR
VERSION:2.0
PRODID:SchoolNow
CALSCALE:GREGORIAN
BEGIN:VEVENT
UID:093259a8-25cf-11ea-b346-22000a97d21c
DTSTAMP:20200515T013503Z
SUMMARY:Movie Night - Cancelled
LOCATION:Theater
URL;VALUE=URI:https://www.wildernesslakecdd.org/calendar/2165972/movie-nigh
 t
DTSTART:20200601T220000Z
DTEND:20200601T233000Z
END:VEVENT
END:VCALENDAR
