BEGIN:VCALENDAR
VERSION:2.0
PRODID:SchoolNow
CALSCALE:GREGORIAN
BEGIN:VEVENT
UID:09324364-25cf-11ea-a718-22000a97d21c
DTSTAMP:20200515T013216Z
SUMMARY:Movie Night - Cancelled
LOCATION:Theater
URL;VALUE=URI:https://www.wildernesslakecdd.org/calendar/2165971/movie-nigh
 t
DTSTART:20200518T220000Z
DTEND:20200518T233000Z
END:VEVENT
END:VCALENDAR
