BEGIN:VCALENDAR
VERSION:2.0
PRODID:SchoolNow
CALSCALE:GREGORIAN
BEGIN:VEVENT
UID:09322cbc-25cf-11ea-a594-22000a97d21c
DTSTAMP:20200508T123618Z
SUMMARY:Movie Night - Cancelled
LOCATION:Theater
URL;VALUE=URI:https://www.wildernesslakecdd.org/calendar/2165970/movie-nigh
 t
DTSTART:20200511T220000Z
DTEND:20200511T233000Z
END:VEVENT
END:VCALENDAR
