BEGIN:VCALENDAR
VERSION:2.0
PRODID:SchoolNow
CALSCALE:GREGORIAN
BEGIN:VEVENT
UID:0931c1fa-25cf-11ea-9c92-22000a97d21c
DTSTAMP:20200508T003258Z
SUMMARY:Movie Night
LOCATION:Theater
URL;VALUE=URI:https://www.wildernesslakecdd.org/calendar/2165967/movie-nigh
 t
DTSTART:20200420T220000Z
DTEND:20200420T233000Z
END:VEVENT
END:VCALENDAR
