BEGIN:VCALENDAR
VERSION:2.0
PRODID:SchoolNow
CALSCALE:GREGORIAN
BEGIN:VEVENT
UID:09318a32-25cf-11ea-a0c1-22000a97d21c
DTSTAMP:20200508T003258Z
SUMMARY:Movie Night
LOCATION:Theater
URL;VALUE=URI:https://www.wildernesslakecdd.org/calendar/2165965/movie-nigh
 t
DTSTART:20200406T220000Z
DTEND:20200406T233000Z
END:VEVENT
END:VCALENDAR
