BEGIN:VCALENDAR
VERSION:2.0
PRODID:SchoolNow
CALSCALE:GREGORIAN
BEGIN:VEVENT
UID:09315d0a-25cf-11ea-961a-22000a97d21c
DTSTAMP:20200508T003258Z
SUMMARY:Movie Night
LOCATION:Theater
URL;VALUE=URI:https://www.wildernesslakecdd.org/calendar/2165963/movie-nigh
 t
DTSTART:20200323T220000Z
DTEND:20200323T233000Z
END:VEVENT
END:VCALENDAR
