BEGIN:VCALENDAR
VERSION:2.0
PRODID:SchoolNow
CALSCALE:GREGORIAN
BEGIN:VEVENT
UID:092fc166-25cf-11ea-bcdf-22000a97d21c
DTSTAMP:20200508T003258Z
SUMMARY:Movie Night
LOCATION:Theater
URL;VALUE=URI:https://www.wildernesslakecdd.org/calendar/2165959/movie-nigh
 t
DTSTART:20200224T230000Z
DTEND:20200225T003000Z
END:VEVENT
END:VCALENDAR
