BEGIN:VCALENDAR
VERSION:2.0
PRODID:SchoolNow
CALSCALE:GREGORIAN
BEGIN:VEVENT
UID:092f7dfa-25cf-11ea-b425-22000a97d21c
DTSTAMP:20200508T003258Z
SUMMARY:Movie Night
LOCATION:Theater
URL;VALUE=URI:https://www.wildernesslakecdd.org/calendar/2165956/movie-nigh
 t
DTSTART:20200203T230000Z
DTEND:20200204T003000Z
END:VEVENT
END:VCALENDAR
