BEGIN:VCALENDAR
VERSION:2.0
PRODID:SchoolNow
CALSCALE:GREGORIAN
BEGIN:VEVENT
UID:092f3b38-25cf-11ea-9b90-22000a97d21c
DTSTAMP:20200508T003258Z
SUMMARY:Movie Night
LOCATION:Theater
URL;VALUE=URI:https://www.wildernesslakecdd.org/calendar/2165953/movie-nigh
 t
DTSTART:20200113T230000Z
DTEND:20200114T003000Z
END:VEVENT
END:VCALENDAR
