BEGIN:VCALENDAR
VERSION:2.0
PRODID:SchoolNow
CALSCALE:GREGORIAN
BEGIN:VEVENT
UID:092ef7ae-25cf-11ea-aa85-22000a97d21c
DTSTAMP:20200508T003258Z
SUMMARY:Movie Night
LOCATION:Theater
URL;VALUE=URI:https://www.wildernesslakecdd.org/calendar/2165950/movie-nigh
 t
DTSTART:20191223T230000Z
DTEND:20191224T003000Z
END:VEVENT
END:VCALENDAR
