BEGIN:VCALENDAR
VERSION:2.0
PRODID:SchoolNow
CALSCALE:GREGORIAN
BEGIN:VEVENT
UID:092ee124-25cf-11ea-b09c-22000a97d21c
DTSTAMP:20200508T003258Z
SUMMARY:Movie Night
LOCATION:Theater
URL;VALUE=URI:https://www.wildernesslakecdd.org/calendar/2165949/movie-nigh
 t
DTSTART:20191216T230000Z
DTEND:20191217T003000Z
END:VEVENT
END:VCALENDAR
