BEGIN:VCALENDAR
VERSION:2.0
PRODID:SchoolNow
CALSCALE:GREGORIAN
BEGIN:VEVENT
UID:092e9dea-25cf-11ea-8b33-22000a97d21c
DTSTAMP:20200508T003257Z
SUMMARY:Movie Night
LOCATION:Theater
URL;VALUE=URI:https://www.wildernesslakecdd.org/calendar/2165946/movie-nigh
 t
DTSTART:20191125T230000Z
DTEND:20191126T003000Z
END:VEVENT
END:VCALENDAR
