BEGIN:VCALENDAR
VERSION:2.0
PRODID:SchoolNow
CALSCALE:GREGORIAN
BEGIN:VEVENT
UID:092d4972-25cf-11ea-b9fd-22000a97d21c
DTSTAMP:20200508T003257Z
SUMMARY:Movie Night
LOCATION:Theater
URL;VALUE=URI:https://www.wildernesslakecdd.org/calendar/2165945/movie-nigh
 t
DTSTART:20191118T230000Z
DTEND:20191119T003000Z
END:VEVENT
END:VCALENDAR
