BEGIN:VCALENDAR
VERSION:2.0
PRODID:SchoolNow
CALSCALE:GREGORIAN
BEGIN:VEVENT
UID:092d3284-25cf-11ea-9505-22000a97d21c
DTSTAMP:20200508T003257Z
SUMMARY:Movie Night
LOCATION:Theater
URL;VALUE=URI:https://www.wildernesslakecdd.org/calendar/2165944/movie-nigh
 t
DTSTART:20191111T230000Z
DTEND:20191112T003000Z
END:VEVENT
END:VCALENDAR
