BEGIN:VCALENDAR
VERSION:2.0
PRODID:SchoolNow
CALSCALE:GREGORIAN
BEGIN:VEVENT
UID:092d1c40-25cf-11ea-a104-22000a97d21c
DTSTAMP:20200508T003257Z
SUMMARY:Movie Night
LOCATION:Theater
URL;VALUE=URI:https://www.wildernesslakecdd.org/calendar/2165943/movie-nigh
 t
DTSTART:20191104T230000Z
DTEND:20191105T003000Z
END:VEVENT
END:VCALENDAR
