BEGIN:VCALENDAR
VERSION:2.0
PRODID:SchoolNow
CALSCALE:GREGORIAN
BEGIN:VEVENT
UID:092d0638-25cf-11ea-9658-22000a97d21c
DTSTAMP:20200508T003257Z
SUMMARY:Movie Night
LOCATION:Theater
URL;VALUE=URI:https://www.wildernesslakecdd.org/calendar/2165942/movie-nigh
 t
DTSTART:20191028T220000Z
DTEND:20191028T233000Z
END:VEVENT
END:VCALENDAR
