BEGIN:VCALENDAR
VERSION:2.0
PRODID:SchoolNow
CALSCALE:GREGORIAN
BEGIN:VEVENT
UID:092cf062-25cf-11ea-8f5b-22000a97d21c
DTSTAMP:20200508T003257Z
SUMMARY:Movie Night
LOCATION:Theater
URL;VALUE=URI:https://www.wildernesslakecdd.org/calendar/2165941/movie-nigh
 t
DTSTART:20191021T220000Z
DTEND:20191021T233000Z
END:VEVENT
END:VCALENDAR
