BEGIN:VCALENDAR
VERSION:2.0
PRODID:SchoolNow
CALSCALE:GREGORIAN
BEGIN:VEVENT
UID:092cda46-25cf-11ea-ae16-22000a97d21c
DTSTAMP:20200508T003257Z
SUMMARY:Movie Night
LOCATION:Theater
URL;VALUE=URI:https://www.wildernesslakecdd.org/calendar/2165940/movie-nigh
 t
DTSTART:20191014T220000Z
DTEND:20191014T233000Z
END:VEVENT
END:VCALENDAR
