BEGIN:VCALENDAR
VERSION:2.0
PRODID:SchoolNow
CALSCALE:GREGORIAN
BEGIN:VEVENT
UID:092cc420-25cf-11ea-9dec-22000a97d21c
DTSTAMP:20200508T003257Z
SUMMARY:Movie Night
LOCATION:Theater
URL;VALUE=URI:https://www.wildernesslakecdd.org/calendar/2165939/movie-nigh
 t
DTSTART:20191007T220000Z
DTEND:20191007T233000Z
END:VEVENT
END:VCALENDAR
