BEGIN:VCALENDAR
VERSION:2.0
PRODID:SchoolNow
CALSCALE:GREGORIAN
BEGIN:VEVENT
UID:092c7f56-25cf-11ea-b9eb-22000a97d21c
DTSTAMP:20200508T003257Z
SUMMARY:Movie Night
LOCATION:Theater
URL;VALUE=URI:https://www.wildernesslakecdd.org/calendar/2165936/movie-nigh
 t
DTSTART:20190916T220000Z
DTEND:20190916T233000Z
END:VEVENT
END:VCALENDAR
