BEGIN:VCALENDAR
VERSION:2.0
PRODID:SchoolNow
CALSCALE:GREGORIAN
BEGIN:VEVENT
UID:092c696c-25cf-11ea-bc88-22000a97d21c
DTSTAMP:20200508T003257Z
SUMMARY:Movie Night
LOCATION:Theater
URL;VALUE=URI:https://www.wildernesslakecdd.org/calendar/2165935/movie-nigh
 t
DTSTART:20190909T220000Z
DTEND:20190909T233000Z
END:VEVENT
END:VCALENDAR
