BEGIN:VCALENDAR
VERSION:2.0
PRODID:SchoolNow
CALSCALE:GREGORIAN
BEGIN:VEVENT
UID:092c25ec-25cf-11ea-a09f-22000a97d21c
DTSTAMP:20210502T220631Z
SUMMARY:ARC Meeting
LOCATION:Lodge
URL;VALUE=URI:https://www.wildernesslakecdd.org/calendar/2165932/arc-meetin
 g
DTSTART:20210719T223000Z
DTEND:20210720T000000Z
END:VEVENT
END:VCALENDAR
