BEGIN:VCALENDAR
VERSION:2.0
PRODID:SchoolNow
CALSCALE:GREGORIAN
BEGIN:VEVENT
UID:092ad142-25cf-11ea-bbdb-22000a97d21c
DTSTAMP:20200508T003257Z
SUMMARY:ARC Meeting
LOCATION:Lodge
URL;VALUE=URI:https://www.wildernesslakecdd.org/calendar/2165931/arc-meetin
 g
DTSTART:20210712T223000Z
DTEND:20210713T000000Z
END:VEVENT
END:VCALENDAR
