BEGIN:VCALENDAR
VERSION:2.0
PRODID:SchoolNow
CALSCALE:GREGORIAN
BEGIN:VEVENT
UID:092aba5e-25cf-11ea-8a57-22000a97d21c
DTSTAMP:20210502T220513Z
SUMMARY:ARC Meeting
LOCATION:Lodge
URL;VALUE=URI:https://www.wildernesslakecdd.org/calendar/2165930/arc-meetin
 g
DTSTART:20210621T223000Z
DTEND:20210622T000000Z
END:VEVENT
END:VCALENDAR
