BEGIN:VCALENDAR
VERSION:2.0
PRODID:SchoolNow
CALSCALE:GREGORIAN
BEGIN:VEVENT
UID:092aa42e-25cf-11ea-a389-22000a97d21c
DTSTAMP:20210502T220547Z
SUMMARY:ARC Meeting
LOCATION:Lodge
URL;VALUE=URI:https://www.wildernesslakecdd.org/calendar/2165929/arc-meetin
 g
DTSTART:20210705T223000Z
DTEND:20210706T000000Z
END:VEVENT
END:VCALENDAR
