BEGIN:VCALENDAR
VERSION:2.0
PRODID:SchoolNow
CALSCALE:GREGORIAN
BEGIN:VEVENT
UID:092a8e08-25cf-11ea-bc09-22000a97d21c
DTSTAMP:20210502T220302Z
SUMMARY:ARC Meeting
LOCATION:Lodge
URL;VALUE=URI:https://www.wildernesslakecdd.org/calendar/2165928/arc-meetin
 g
DTSTART:20210607T223000Z
DTEND:20210608T000000Z
END:VEVENT
END:VCALENDAR
