BEGIN:VCALENDAR
VERSION:2.0
PRODID:SchoolNow
CALSCALE:GREGORIAN
BEGIN:VEVENT
UID:092a6162-25cf-11ea-9809-22000a97d21c
DTSTAMP:20210502T220156Z
SUMMARY:ARC Meeting
LOCATION:Lodge
URL;VALUE=URI:https://www.wildernesslakecdd.org/calendar/2165926/arc-meetin
 g
DTSTART:20210510T223000Z
DTEND:20210511T000000Z
END:VEVENT
END:VCALENDAR
