BEGIN:VCALENDAR
VERSION:2.0
PRODID:SchoolNow
CALSCALE:GREGORIAN
BEGIN:VEVENT
UID:092a4aec-25cf-11ea-b3c0-22000a97d21c
DTSTAMP:20200508T003256Z
SUMMARY:ARC Meeting
LOCATION:Lodge
URL;VALUE=URI:https://www.wildernesslakecdd.org/calendar/2165925/arc-meetin
 g
DTSTART:20210419T223000Z
DTEND:20210420T000000Z
END:VEVENT
END:VCALENDAR
