BEGIN:VCALENDAR
VERSION:2.0
PRODID:SchoolNow
CALSCALE:GREGORIAN
BEGIN:VEVENT
UID:092a2e90-25cf-11ea-8b40-22000a97d21c
DTSTAMP:20200508T003256Z
SUMMARY:ARC Meeting
LOCATION:Lodge
URL;VALUE=URI:https://www.wildernesslakecdd.org/calendar/2165924/arc-meetin
 g
DTSTART:20210405T223000Z
DTEND:20210406T000000Z
END:VEVENT
END:VCALENDAR
