BEGIN:VCALENDAR
VERSION:2.0
PRODID:SchoolNow
CALSCALE:GREGORIAN
BEGIN:VEVENT
UID:092a1860-25cf-11ea-ac05-22000a97d21c
DTSTAMP:20210302T030141Z
SUMMARY:ARC Meeting
LOCATION:Lodge
URL;VALUE=URI:https://www.wildernesslakecdd.org/calendar/2165923/arc-meetin
 g
DTSTART:20210329T223000Z
DTEND:20210330T000000Z
END:VEVENT
END:VCALENDAR
