BEGIN:VCALENDAR
VERSION:2.0
PRODID:SchoolNow
CALSCALE:GREGORIAN
BEGIN:VEVENT
UID:092a01ae-25cf-11ea-a545-22000a97d21c
DTSTAMP:20210302T030107Z
SUMMARY:ARC Meeting
LOCATION:Lodge
URL;VALUE=URI:https://www.wildernesslakecdd.org/calendar/2165922/arc-meetin
 g
DTSTART:20210315T223000Z
DTEND:20210316T000000Z
END:VEVENT
END:VCALENDAR
