BEGIN:VCALENDAR
VERSION:2.0
PRODID:SchoolNow
CALSCALE:GREGORIAN
BEGIN:VEVENT
UID:0929e93a-25cf-11ea-af07-22000a97d21c
DTSTAMP:20200508T003256Z
SUMMARY:ARC Meeting
LOCATION:Lodge
URL;VALUE=URI:https://www.wildernesslakecdd.org/calendar/2165921/arc-meetin
 g
DTSTART:20210222T233000Z
DTEND:20210223T010000Z
END:VEVENT
END:VCALENDAR
