BEGIN:VCALENDAR
VERSION:2.0
PRODID:SchoolNow
CALSCALE:GREGORIAN
BEGIN:VEVENT
UID:0929d2ec-25cf-11ea-8522-22000a97d21c
DTSTAMP:20210207T185324Z
SUMMARY:ARC Meeting
LOCATION:Lodge
URL;VALUE=URI:https://www.wildernesslakecdd.org/calendar/2165920/arc-meetin
 g
DTSTART:20210215T233000Z
DTEND:20210216T010000Z
END:VEVENT
END:VCALENDAR
