BEGIN:VCALENDAR
VERSION:2.0
PRODID:SchoolNow
CALSCALE:GREGORIAN
BEGIN:VEVENT
UID:0929bc58-25cf-11ea-ba3e-22000a97d21c
DTSTAMP:20200508T003256Z
SUMMARY:ARC Meeting
LOCATION:Lodge
URL;VALUE=URI:https://www.wildernesslakecdd.org/calendar/2165919/arc-meetin
 g
DTSTART:20210125T233000Z
DTEND:20210126T010000Z
END:VEVENT
END:VCALENDAR
