BEGIN:VCALENDAR
VERSION:2.0
PRODID:SchoolNow
CALSCALE:GREGORIAN
BEGIN:VEVENT
UID:0929a506-25cf-11ea-8f5e-22000a97d21c
DTSTAMP:20200508T003256Z
SUMMARY:ARC Meeting
LOCATION:Lodge
URL;VALUE=URI:https://www.wildernesslakecdd.org/calendar/2165918/arc-meetin
 g
DTSTART:20210111T233000Z
DTEND:20210112T010000Z
END:VEVENT
END:VCALENDAR
