BEGIN:VCALENDAR
VERSION:2.0
PRODID:SchoolNow
CALSCALE:GREGORIAN
BEGIN:VEVENT
UID:09284c9c-25cf-11ea-b652-22000a97d21c
DTSTAMP:20200508T003256Z
SUMMARY:ARC Meeting
LOCATION:Lodge
URL;VALUE=URI:https://www.wildernesslakecdd.org/calendar/2165917/arc-meetin
 g
DTSTART:20201228T233000Z
DTEND:20201229T010000Z
END:VEVENT
END:VCALENDAR
