BEGIN:VCALENDAR
VERSION:2.0
PRODID:SchoolNow
CALSCALE:GREGORIAN
BEGIN:VEVENT
UID:09281f60-25cf-11ea-baf3-22000a97d21c
DTSTAMP:20200508T003256Z
SUMMARY:ARC Meeting
LOCATION:Lodge
URL;VALUE=URI:https://www.wildernesslakecdd.org/calendar/2165915/arc-meetin
 g
DTSTART:20201130T233000Z
DTEND:20201201T010000Z
END:VEVENT
END:VCALENDAR
