BEGIN:VCALENDAR
VERSION:2.0
PRODID:SchoolNow
CALSCALE:GREGORIAN
BEGIN:VEVENT
UID:0928091c-25cf-11ea-b7c9-22000a97d21c
DTSTAMP:20200508T003256Z
SUMMARY:ARC Meeting
LOCATION:Lodge
URL;VALUE=URI:https://www.wildernesslakecdd.org/calendar/2165914/arc-meetin
 g
DTSTART:20201116T233000Z
DTEND:20201117T010000Z
END:VEVENT
END:VCALENDAR
