BEGIN:VCALENDAR
VERSION:2.0
PRODID:SchoolNow
CALSCALE:GREGORIAN
BEGIN:VEVENT
UID:0927ec34-25cf-11ea-b639-22000a97d21c
DTSTAMP:20200508T003256Z
SUMMARY:ARC Meeting
LOCATION:Lodge
URL;VALUE=URI:https://www.wildernesslakecdd.org/calendar/2165913/arc-meetin
 g
DTSTART:20201102T233000Z
DTEND:20201103T010000Z
END:VEVENT
END:VCALENDAR
