BEGIN:VCALENDAR
VERSION:2.0
PRODID:SchoolNow
CALSCALE:GREGORIAN
BEGIN:VEVENT
UID:0927bfca-25cf-11ea-959f-22000a97d21c
DTSTAMP:20200920T184546Z
SUMMARY:ARC Meeting
LOCATION:Activities Center
URL;VALUE=URI:https://www.wildernesslakecdd.org/calendar/2165911/arc-meetin
 g
DTSTART:20201005T223000Z
DTEND:20201006T000000Z
END:VEVENT
END:VCALENDAR
