BEGIN:VCALENDAR
VERSION:2.0
PRODID:SchoolNow
CALSCALE:GREGORIAN
BEGIN:VEVENT
UID:0927a8f0-25cf-11ea-bb53-22000a97d21c
DTSTAMP:20200920T184559Z
SUMMARY:ARC Meeting
LOCATION:Activities Center
URL;VALUE=URI:https://www.wildernesslakecdd.org/calendar/2165910/arc-meetin
 g
DTSTART:20200921T223000Z
DTEND:20200922T000000Z
END:VEVENT
END:VCALENDAR
