BEGIN:VCALENDAR
VERSION:2.0
PRODID:SchoolNow
CALSCALE:GREGORIAN
BEGIN:VEVENT
UID:092792a2-25cf-11ea-9daa-22000a97d21c
DTSTAMP:20200905T200517Z
SUMMARY:ARC Meeting
LOCATION:Lodge
URL;VALUE=URI:https://www.wildernesslakecdd.org/calendar/2165909/arc-meetin
 g
DTSTART:20200907T200000Z
DTEND:20200907T210000Z
END:VEVENT
END:VCALENDAR
