BEGIN:VCALENDAR
VERSION:2.0
PRODID:SchoolNow
CALSCALE:GREGORIAN
BEGIN:VEVENT
UID:09277a56-25cf-11ea-be4f-22000a97d21c
DTSTAMP:20200726T182804Z
SUMMARY:ARC Meeting
LOCATION:Activities Center
URL;VALUE=URI:https://www.wildernesslakecdd.org/calendar/2165908/arc-meetin
 g
DTSTART:20200824T223000Z
DTEND:20200825T000000Z
END:VEVENT
END:VCALENDAR
