BEGIN:VCALENDAR
VERSION:2.0
PRODID:SchoolNow
CALSCALE:GREGORIAN
BEGIN:VEVENT
UID:09274d92-25cf-11ea-84e9-22000a97d21c
DTSTAMP:20200726T175521Z
SUMMARY:ARC Meeting
LOCATION:Lodge
URL;VALUE=URI:https://www.wildernesslakecdd.org/calendar/2165906/arc-meetin
 g
DTSTART:20200727T223000Z
DTEND:20200728T000000Z
END:VEVENT
END:VCALENDAR
