BEGIN:VCALENDAR
VERSION:2.0
PRODID:SchoolNow
CALSCALE:GREGORIAN
BEGIN:VEVENT
UID:092736ea-25cf-11ea-ad84-22000a97d21c
DTSTAMP:20200627T155817Z
SUMMARY:ARC Meeting
LOCATION:Activities Center
URL;VALUE=URI:https://www.wildernesslakecdd.org/calendar/2165905/arc-meetin
 g
DTSTART:20200713T223000Z
DTEND:20200714T000000Z
END:VEVENT
END:VCALENDAR
