BEGIN:VCALENDAR
VERSION:2.0
PRODID:SchoolNow
CALSCALE:GREGORIAN
BEGIN:VEVENT
UID:0925447a-25cf-11ea-bea5-22000a97d21c
DTSTAMP:20200627T155719Z
SUMMARY:ARC Meeting
LOCATION:Activities Center
URL;VALUE=URI:https://www.wildernesslakecdd.org/calendar/2165904/arc-meetin
 g
DTSTART:20200629T223000Z
DTEND:20200630T000000Z
END:VEVENT
END:VCALENDAR
