BEGIN:VCALENDAR
VERSION:2.0
PRODID:SchoolNow
CALSCALE:GREGORIAN
BEGIN:VEVENT
UID:09252e7c-25cf-11ea-892c-22000a97d21c
DTSTAMP:20200612T194259Z
SUMMARY:ARC Meeting - Canceled
LOCATION:Lodge
URL;VALUE=URI:https://www.wildernesslakecdd.org/calendar/2165903/arc-meetin
 g
DTSTART:20200615T223000Z
DTEND:20200616T000000Z
END:VEVENT
END:VCALENDAR
