BEGIN:VCALENDAR
VERSION:2.0
PRODID:SchoolNow
CALSCALE:GREGORIAN
BEGIN:VEVENT
UID:0925186a-25cf-11ea-8cda-22000a97d21c
DTSTAMP:20200508T003255Z
SUMMARY:ARC Meeting
LOCATION:Lodge
URL;VALUE=URI:https://www.wildernesslakecdd.org/calendar/2165902/arc-meetin
 g
DTSTART:20200601T223000Z
DTEND:20200602T000000Z
END:VEVENT
END:VCALENDAR
