BEGIN:VCALENDAR
VERSION:2.0
PRODID:SchoolNow
CALSCALE:GREGORIAN
BEGIN:VEVENT
UID:0925024e-25cf-11ea-9428-22000a97d21c
DTSTAMP:20200515T013232Z
SUMMARY:ARC Meeting - Cancelled
LOCATION:Lodge
URL;VALUE=URI:https://www.wildernesslakecdd.org/calendar/2165901/arc-meetin
 g
DTSTART:20200518T223000Z
DTEND:20200519T000000Z
END:VEVENT
END:VCALENDAR
